
BEGIN:VCALENDAR
VERSION:2.0
PRODID:-//MarkedsPartner AS//Umbraco CMS//NO
TIMEZONE-ID:Europe/Oslo
X-WR-TIMEZONE:Europe/Oslo


BEGIN:VEVENT
UID:0cf6ae7e17af419eab0dcabcfc95afa5
URL:https://stavangernaering-2023.azurewebsites.net/en/events/archive/sso-christmas-concert_december-2023/
ORGANIZER;CN=Ola Normann:MAILTO:ola.normann@markedspartner.no
DTSTAMP:20221215T180000Z
DTSTART:20221215T180000Z
DTEND:20221215T200000Z
LAST-MODIFIED:20221219T070752Z
SUMMARY:Christmas Concert with SSO
DESCRIPTION:Join us for a Christmas concert with the Stavanger Symphony Choir!
X-ALT-DESC:Join us for a Christmas concert with the Stavanger Symphony Choir!
LOCATION:Stavanger Concert House, the &quot;Fartein Valen Hall&quot;
END:VEVENT


END:VCALENDAR



