
BEGIN:VCALENDAR
VERSION:2.0
PRODID:-//MarkedsPartner AS//Umbraco CMS//NO
TIMEZONE-ID:Europe/Oslo
X-WR-TIMEZONE:Europe/Oslo


BEGIN:VEVENT
UID:3ef19b2aedb74d098fbbc5964ea78188
URL:https://stavangernaering-2023.azurewebsites.net/en/events/archive/spring-and-summer-fun_070520/
ORGANIZER;CN=Ola Normann:MAILTO:ola.normann@markedspartner.no
DTSTAMP:20200507T180000Z
DTSTART:20200507T180000Z
DTEND:20200507T190000Z
LAST-MODIFIED:20200612T113332Z
SUMMARY:Webinar: Spring and summer fun
DESCRIPTION:This year  most of us will likely spend our holidays in Norway.  We would like to share attractive activities and places to visit.
X-ALT-DESC:This year  most of us will likely spend our holidays in Norway.  We would like to share attractive activities and places to visit.
LOCATION:Rosenkildehuset
END:VEVENT


END:VCALENDAR



