
BEGIN:VCALENDAR
VERSION:2.0
PRODID:-//MarkedsPartner AS//Umbraco CMS//NO
TIMEZONE-ID:Europe/Oslo
X-WR-TIMEZONE:Europe/Oslo


BEGIN:VEVENT
UID:18e14d0f47f34e33b9e229e71f92146e
URL:https://stavangernaering-2023.azurewebsites.net/en/events/archive/spouse-network-program/
ORGANIZER;CN=Ola Normann:MAILTO:ola.normann@markedspartner.no
DTSTAMP:20200821T080000Z
DTSTART:20200821T080000Z
DTEND:20200821T090000Z
LAST-MODIFIED:20200827T103344Z
SUMMARY:Spouse Network Program - Green Inspiration 
DESCRIPTION:Join us for an inspirational show & tell at Skaparverket, where the focus is on better indoor environments!
X-ALT-DESC:Join us for an inspirational show &amp; tell at Skaparverket, where the focus is on better indoor environments!
LOCATION:Mus&#233;gata 16A
END:VEVENT


END:VCALENDAR



