
BEGIN:VCALENDAR
VERSION:2.0
PRODID:-//MarkedsPartner AS//Umbraco CMS//NO
TIMEZONE-ID:Europe/Oslo
X-WR-TIMEZONE:Europe/Oslo


BEGIN:VEVENT
UID:fa2a4f83a9fc4632805018759c1cc761
URL:https://stavangernaering-2023.azurewebsites.net/en/events/archive/spouse-network-program-tour-of-figgjo-factory/
ORGANIZER;CN=Ola Normann:MAILTO:ola.normann@markedspartner.no
DTSTAMP:20191113T090000Z
DTSTART:20191113T090000Z
DTEND:20191113T100000Z
LAST-MODIFIED:20200612T113327Z
SUMMARY:Spouse network program: Tour of Figgjo Factory
DESCRIPTION:A guided tour around the Figgjo Factory - one of Norway’s leading producers of china.
X-ALT-DESC:A guided tour around the Figgjo Factory - one of Norway’s leading producers of china.
LOCATION:Figgjo Fabrikk
END:VEVENT


END:VCALENDAR



