
BEGIN:VCALENDAR
VERSION:2.0
PRODID:-//MarkedsPartner AS//Umbraco CMS//NO
TIMEZONE-ID:Europe/Oslo
X-WR-TIMEZONE:Europe/Oslo


BEGIN:VEVENT
UID:13b7be959bb041b4bbd6559df0b63388
URL:https://stavangernaering-2023.azurewebsites.net/en/events/archive/spouse-network-program-music-festivals-and-volunteering/
ORGANIZER;CN=Ola Normann:MAILTO:ola.normann@markedspartner.no
DTSTAMP:20191023T080000Z
DTSTART:20191023T080000Z
DTEND:20191023T063000Z
LAST-MODIFIED:20200612T113326Z
SUMMARY:Spouse network program – Music Festivals and volunteering
DESCRIPTION:Mai Jazz is one of the oldest and most well established  festivals in the region, and wouldn´t be possible without all the wonderful volunteers who share a variety of roles during this amazing musical week of May.
X-ALT-DESC:Mai Jazz is one of the oldest and most well established  festivals in the region, and wouldn&#180;t be possible without all the wonderful volunteers who share a variety of roles during this amazing musical week of May.
LOCATION:Rosenkildehuset
END:VEVENT


END:VCALENDAR



