
BEGIN:VCALENDAR
VERSION:2.0
PRODID:-//MarkedsPartner AS//Umbraco CMS//NO
TIMEZONE-ID:Europe/Oslo
X-WR-TIMEZONE:Europe/Oslo


BEGIN:VEVENT
UID:879ea74a56dd48e1829ee25fcb47d0e0
URL:https://stavangernaering-2023.azurewebsites.net/en/events/archive/spouse-network-program-introduction-to-social-cooking/
ORGANIZER;CN=Ola Normann:MAILTO:ola.normann@markedspartner.no
DTSTAMP:20200115T090000Z
DTSTART:20200115T090000Z
DTEND:20200115T103000Z
LAST-MODIFIED:20200612T113328Z
SUMMARY:Spouse network program
DESCRIPTION:Like to meet new people through your love of cooking?
X-ALT-DESC:Like to meet new people through your love of cooking?
LOCATION:Trakt&#248;ren
END:VEVENT


END:VCALENDAR



