
BEGIN:VCALENDAR
VERSION:2.0
PRODID:-//MarkedsPartner AS//Umbraco CMS//NO
TIMEZONE-ID:Europe/Oslo
X-WR-TIMEZONE:Europe/Oslo


BEGIN:VEVENT
UID:191ee9ace89444dfb5f17c4f19dbe86c
URL:https://stavangernaering-2023.azurewebsites.net/en/events/archive/spouse-network-program-guided-city-tour/
ORGANIZER;CN=Ola Normann:MAILTO:ola.normann@markedspartner.no
DTSTAMP:20210526T090000Z
DTSTART:20210526T090000Z
DTEND:20210526T103000Z
LAST-MODIFIED:20210527T191551Z
SUMMARY:Spouse network program:  City Tour Walk
DESCRIPTION:Yippee! We can meet in person as long as we remember social distancing rules. Here is your chance to get acquainted with the city of Stavanger!
X-ALT-DESC:Yippee! We can meet in person as long as we remember social distancing rules. Here is your chance to get acquainted with the city of Stavanger!
LOCATION:Rosenkildehuset
END:VEVENT


END:VCALENDAR



