
BEGIN:VCALENDAR
VERSION:2.0
PRODID:-//MarkedsPartner AS//Umbraco CMS//NO
TIMEZONE-ID:Europe/Oslo
X-WR-TIMEZONE:Europe/Oslo


BEGIN:VEVENT
UID:9fa5630e75774d3682ecb5665be27ebe
URL:https://stavangernaering-2023.azurewebsites.net/en/events/archive/spouse-network-program-guided-city-tour-1/
ORGANIZER;CN=Ola Normann:MAILTO:ola.normann@markedspartner.no
DTSTAMP:20220422T080000Z
DTSTART:20220422T080000Z
DTEND:20220422T093000Z
LAST-MODIFIED:20220423T052423Z
SUMMARY:Morning session:  City Tour Walk
DESCRIPTION:Here is your chance to get acquainted with the city of Stavanger and meet newcomers in our region!
X-ALT-DESC:Here is your chance to get acquainted with the city of Stavanger and meet newcomers in our region!
LOCATION:Rosenkildehuset, Strandkaien 6, 4005 Stavanger
END:VEVENT


END:VCALENDAR



