
BEGIN:VCALENDAR
VERSION:2.0
PRODID:-//MarkedsPartner AS//Umbraco CMS//NO
TIMEZONE-ID:Europe/Oslo
X-WR-TIMEZONE:Europe/Oslo


BEGIN:VEVENT
UID:6922bc1268074f0d87130a7ced58ea4f
URL:https://stavangernaering-2023.azurewebsites.net/en/events/archive/spouse-network-program-colour-analysis-with-veronica/
ORGANIZER;CN=Ola Normann:MAILTO:ola.normann@markedspartner.no
DTSTAMP:20200212T090000Z
DTSTART:20200212T090000Z
DTEND:20200212T103000Z
LAST-MODIFIED:20200612T113329Z
SUMMARY:Spouse network program - Colour Analysis with Veronica
DESCRIPTION:This is your opportuntiy to find out more about the importance of wearing the right colours.
X-ALT-DESC:This is your opportuntiy to find out more about the importance of wearing the right colours.
LOCATION:Rosenkildehuset
END:VEVENT


END:VCALENDAR



