
BEGIN:VCALENDAR
VERSION:2.0
PRODID:-//MarkedsPartner AS//Umbraco CMS//NO
TIMEZONE-ID:Europe/Oslo
X-WR-TIMEZONE:Europe/Oslo


BEGIN:VEVENT
UID:e822fda9a91e4c7cae95f1f3040ea280
URL:https://stavangernaering-2023.azurewebsites.net/en/events/archive/spouse-network-program-christmas-lunch/
ORGANIZER;CN=Ola Normann:MAILTO:ola.normann@markedspartner.no
DTSTAMP:20191211T110000Z
DTSTART:20191211T110000Z
DTEND:20191211T123000Z
LAST-MODIFIED:20200612T113327Z
SUMMARY:Spouse network program: Christmas lunch
DESCRIPTION:HoHoHo It´s beginning to look a lot like Christmas!
X-ALT-DESC:HoHoHo It&#180;s beginning to look a lot like Christmas!
LOCATION:Rosenkildehuset
END:VEVENT


END:VCALENDAR



