
BEGIN:VCALENDAR
VERSION:2.0
PRODID:-//MarkedsPartner AS//Umbraco CMS//NO
TIMEZONE-ID:Europe/Oslo
X-WR-TIMEZONE:Europe/Oslo


BEGIN:VEVENT
UID:9895f9bc6f8442d9a0506c93a461c019
URL:https://stavangernaering-2023.azurewebsites.net/en/events/archive/spouse-network-program-2/
ORGANIZER;CN=Ola Normann:MAILTO:ola.normann@markedspartner.no
DTSTAMP:20210310T090000Z
DTSTART:20210310T090000Z
DTEND:20210310T090000Z
LAST-MODIFIED:20210310T193829Z
SUMMARY:Spouse network program
DESCRIPTION:This is a golden opportunity for making new memories and learning more about the Stavanger-region. Networking and new friendships are crucial to well-being as a newcomer or expat.
X-ALT-DESC:This is a golden opportunity for making new memories and learning more about the Stavanger-region. Networking and new friendships are crucial to well-being as a newcomer or expat.
LOCATION:
END:VEVENT


END:VCALENDAR



