
BEGIN:VCALENDAR
VERSION:2.0
PRODID:-//MarkedsPartner AS//Umbraco CMS//NO
TIMEZONE-ID:Europe/Oslo
X-WR-TIMEZONE:Europe/Oslo


BEGIN:VEVENT
UID:343dfb274eec4db4b3c2f08da424a2a8
URL:https://stavangernaering-2023.azurewebsites.net/en/events/archive/spouse-network-program-131020/
ORGANIZER;CN=Ola Normann:MAILTO:ola.normann@markedspartner.no
DTSTAMP:20201014T080000Z
DTSTART:20201014T080000Z
DTEND:20201014T093000Z
LAST-MODIFIED:20201015T153239Z
SUMMARY:Spouse Network Program:Staying Intentional During Uncertainty
DESCRIPTION:Get advice on how to stay intentional to your values, and setting adaptable goals.
X-ALT-DESC:Get advice on how to stay intentional to your values, and setting adaptable goals.
LOCATION:Rosenkildehuset
END:VEVENT


END:VCALENDAR



