
BEGIN:VCALENDAR
VERSION:2.0
PRODID:-//MarkedsPartner AS//Umbraco CMS//NO
TIMEZONE-ID:Europe/Oslo
X-WR-TIMEZONE:Europe/Oslo


BEGIN:VEVENT
UID:69fc3792204b47ef8c38ddf56801d865
URL:https://stavangernaering-2023.azurewebsites.net/en/events/archive/spouse-network-program-080920/
ORGANIZER;CN=Ola Normann:MAILTO:ola.normann@markedspartner.no
DTSTAMP:20200909T080000Z
DTSTART:20200909T080000Z
DTEND:20200909T093000Z
LAST-MODIFIED:20200910T134751Z
SUMMARY:Spouse Network Program
DESCRIPTION:Visit to BGE Contemporary Art Projects
X-ALT-DESC:Visit to BGE Contemporary Art Projects
LOCATION:BGE Art Gallery
END:VEVENT


END:VCALENDAR



