
BEGIN:VCALENDAR
VERSION:2.0
PRODID:-//MarkedsPartner AS//Umbraco CMS//NO
TIMEZONE-ID:Europe/Oslo
X-WR-TIMEZONE:Europe/Oslo


BEGIN:VEVENT
UID:630454a0eaad4d6db60aac767a86654c
URL:https://stavangernaering-2023.azurewebsites.net/en/events/archive/speedfriending_okt23/
ORGANIZER;CN=Ola Normann:MAILTO:ola.normann@markedspartner.no
DTSTAMP:20231016T164500Z
DTSTART:20231016T164500Z
DTEND:20231016T190000Z
LAST-MODIFIED:20231018T072351Z
SUMMARY:Speedfriending 
DESCRIPTION:Get ready to expand your network and make meaningful connections at our Speedfriending event in Stavanger!
X-ALT-DESC:Get ready to expand your network and make meaningful connections at our Speedfriending event in Stavanger!
LOCATION:Rosenkildehuset, Strandkaien 6, 4005 Stavanger
END:VEVENT


END:VCALENDAR



