
BEGIN:VCALENDAR
VERSION:2.0
PRODID:-//MarkedsPartner AS//Umbraco CMS//NO
TIMEZONE-ID:Europe/Oslo
X-WR-TIMEZONE:Europe/Oslo


BEGIN:VEVENT
UID:473db5f4883e44e992f18aa5281dbf1a
URL:https://stavangernaering-2023.azurewebsites.net/en/events/archive/speedfriending_mai24/
ORGANIZER;CN=Ola Normann:MAILTO:ola.normann@markedspartner.no
DTSTAMP:20240508T164500Z
DTSTART:20240508T164500Z
DTEND:20240508T190000Z
LAST-MODIFIED:20240513T062346Z
SUMMARY:Speedfriending 
DESCRIPTION:Get ready to expand your network and make meaningful connections at our Speedfriending event in Stavanger!
X-ALT-DESC:Get ready to expand your network and make meaningful connections at our Speedfriending event in Stavanger!
LOCATION:Rosenkildehuset, Strandkaien 6, 4005 Stavanger
END:VEVENT


END:VCALENDAR



