
BEGIN:VCALENDAR
VERSION:2.0
PRODID:-//MarkedsPartner AS//Umbraco CMS//NO
TIMEZONE-ID:Europe/Oslo
X-WR-TIMEZONE:Europe/Oslo


BEGIN:VEVENT
UID:7d91bf4e5259432981cc215814b49242
URL:https://stavangernaering-2023.azurewebsites.net/en/events/archive/speedfriending_april24/
ORGANIZER;CN=Ola Normann:MAILTO:ola.normann@markedspartner.no
DTSTAMP:20240403T164500Z
DTSTART:20240403T164500Z
DTEND:20240403T190000Z
LAST-MODIFIED:20240408T062307Z
SUMMARY:Speedfriending 
DESCRIPTION:Get ready to expand your network and make meaningful connections at our Speedfriending event in Stavanger!
X-ALT-DESC:Get ready to expand your network and make meaningful connections at our Speedfriending event in Stavanger!
LOCATION:Rosenkildehuset, Strandkaien 6, 4005 Stavanger
END:VEVENT


END:VCALENDAR



