
BEGIN:VCALENDAR
VERSION:2.0
PRODID:-//MarkedsPartner AS//Umbraco CMS//NO
TIMEZONE-ID:Europe/Oslo
X-WR-TIMEZONE:Europe/Oslo


BEGIN:VEVENT
UID:f4a4c956dd5845d692d063c2b2c22289
URL:https://stavangernaering-2023.azurewebsites.net/en/events/archive/speedfriending/
ORGANIZER;CN=Ola Normann:MAILTO:ola.normann@markedspartner.no
DTSTAMP:20230621T170000Z
DTSTART:20230621T170000Z
DTEND:20230621T193000Z
LAST-MODIFIED:20230626T081927Z
SUMMARY:Speedfriending 
DESCRIPTION:Get ready to expand your network and make meaningful connections at our Speedfriending event in Stavanger!
X-ALT-DESC:Get ready to expand your network and make meaningful connections at our Speedfriending event in Stavanger!
LOCATION:Rosenkildehuset, Strandkaien 6, 4005 Stavanger
END:VEVENT


END:VCALENDAR



