
BEGIN:VCALENDAR
VERSION:2.0
PRODID:-//MarkedsPartner AS//Umbraco CMS//NO
TIMEZONE-ID:Europe/Oslo
X-WR-TIMEZONE:Europe/Oslo


BEGIN:VEVENT
UID:a115cd68b327451a878f46e73751feba
URL:https://stavangernaering-2023.azurewebsites.net/en/events/archive/soelvberget_okt23/
ORGANIZER;CN=Ola Normann:MAILTO:ola.normann@markedspartner.no
DTSTAMP:20231027T080000Z
DTSTART:20231027T080000Z
DTEND:20231027T100000Z
LAST-MODIFIED:20231027T131158Z
SUMMARY:Guided tour: Sølvberget Library and Culture center 
DESCRIPTION:Sølvberget is a gold mine when it comes to networking activities, holds a great meeting arena as well as offering library services, legal aid, språkkafé to help you fine tune your Norwegian language skills.
X-ALT-DESC:S&#248;lvberget is a gold mine when it comes to networking activities, holds a great meeting arena as well as offering library services, legal aid, spr&#229;kkaf&#233; to help you fine tune your Norwegian language skills.
LOCATION:S&#248;lvberggata 2, 4002 Stavanger
END:VEVENT


END:VCALENDAR



