
BEGIN:VCALENDAR
VERSION:2.0
PRODID:-//MarkedsPartner AS//Umbraco CMS//NO
TIMEZONE-ID:Europe/Oslo
X-WR-TIMEZONE:Europe/Oslo


BEGIN:VEVENT
UID:2918d43c46354b67b1dc1913c5084fd3
URL:https://stavangernaering-2023.azurewebsites.net/en/events/archive/social-outdoor-sep_2022/
ORGANIZER;CN=Ola Normann:MAILTO:ola.normann@markedspartner.no
DTSTAMP:20220907T160000Z
DTSTART:20220907T160000Z
DTEND:20220907T183000Z
LAST-MODIFIED:20220910T052646Z
SUMMARY:Walking, swimming or volleyball?
DESCRIPTION:The weather is almost too good to be true. Please join us for this late summer outing at Sjøbadet Strømvig (Stavanger), for a swim, a volleyball game or just for a short walk along the trail from Strømvig to Lervig.
X-ALT-DESC:The weather is almost too good to be true. Please join us for this late summer outing at Sj&#248;badet Str&#248;mvig (Stavanger), for a swim, a volleyball game or just for a short walk along the trail from Str&#248;mvig to Lervig.
LOCATION:Sj&#248;badet Str&#248;mvig, Str&#248;mvigveien 15, 4015 Stavanger
END:VEVENT


END:VCALENDAR



