
BEGIN:VCALENDAR
VERSION:2.0
PRODID:-//MarkedsPartner AS//Umbraco CMS//NO
TIMEZONE-ID:Europe/Oslo
X-WR-TIMEZONE:Europe/Oslo


BEGIN:VEVENT
UID:00327137926544cf8081d2c99a53468e
URL:https://stavangernaering-2023.azurewebsites.net/en/events/archive/social-night_stavanger-oest-2022/
ORGANIZER;CN=Ola Normann:MAILTO:ola.normann@markedspartner.no
DTSTAMP:20220915T170000Z
DTSTART:20220915T170000Z
DTEND:20220915T193000Z
LAST-MODIFIED:20220918T190609Z
SUMMARY:Social night in Stavanger Øst
DESCRIPTION:A lot of things are happening in Stavanger Øst at the moment. Join us on a social night and discover what this beautiful area has to offer.
X-ALT-DESC:A lot of things are happening in Stavanger &#216;st at the moment. Join us on a social night and discover what this beautiful area has to offer.
LOCATION:The garden
END:VEVENT


END:VCALENDAR



