
BEGIN:VCALENDAR
VERSION:2.0
PRODID:-//MarkedsPartner AS//Umbraco CMS//NO
TIMEZONE-ID:Europe/Oslo
X-WR-TIMEZONE:Europe/Oslo


BEGIN:VEVENT
UID:7959f5abbc4c49a9b34da74752cb0014
URL:https://stavangernaering-2023.azurewebsites.net/en/events/archive/social-night_april2023/
ORGANIZER;CN=Ola Normann:MAILTO:ola.normann@markedspartner.no
DTSTAMP:20230428T173000Z
DTSTART:20230428T173000Z
DTEND:20230428T203000Z
LAST-MODIFIED:20230502T082339Z
SUMMARY:Social night at T-Time Vinbar
DESCRIPTION:A social night filled with good drinks, great conversations and new connections!
X-ALT-DESC:A social night filled with good drinks, great conversations and new connections!
LOCATION:T-Time Vinbar, Kvits&#248;ygata 25, 4014 Stavanger
END:VEVENT


END:VCALENDAR



