
BEGIN:VCALENDAR
VERSION:2.0
PRODID:-//MarkedsPartner AS//Umbraco CMS//NO
TIMEZONE-ID:Europe/Oslo
X-WR-TIMEZONE:Europe/Oslo


BEGIN:VEVENT
UID:9999f9215ae640689eff4c223abd7aee
URL:https://stavangernaering-2023.azurewebsites.net/en/events/archive/social-night-lervig_okt-23/
ORGANIZER;CN=Ola Normann:MAILTO:ola.normann@markedspartner.no
DTSTAMP:20231012T170000Z
DTSTART:20231012T170000Z
DTEND:20231012T193000Z
LAST-MODIFIED:20231013T081717Z
SUMMARY:Social night at Lervig Local
DESCRIPTION:Please join us for a social evening at Lervig Local.
X-ALT-DESC:Please join us for a social evening at Lervig Local.
LOCATION:Lervig Local, Alexander Kiellands gate 2A, 4009 Stavanger
END:VEVENT


END:VCALENDAR



