
BEGIN:VCALENDAR
VERSION:2.0
PRODID:-//MarkedsPartner AS//Umbraco CMS//NO
TIMEZONE-ID:Europe/Oslo
X-WR-TIMEZONE:Europe/Oslo


BEGIN:VEVENT
UID:c039f1273e5c408d9633f0a0108a55bf
URL:https://stavangernaering-2023.azurewebsites.net/en/events/archive/social-night-lervig_nov2022/
ORGANIZER;CN=Ola Normann:MAILTO:ola.normann@markedspartner.no
DTSTAMP:20221117T180000Z
DTSTART:20221117T180000Z
DTEND:20221117T203000Z
LAST-MODIFIED:20221119T062926Z
SUMMARY:Social night at Lervig Local
DESCRIPTION:Please join us for a social evening at Lervig Local.
X-ALT-DESC:Please join us for a social evening at Lervig Local.
LOCATION:Lervig Local, Alexander Kiellands gate 2A, 4009 Stavanger
END:VEVENT


END:VCALENDAR



