
BEGIN:VCALENDAR
VERSION:2.0
PRODID:-//MarkedsPartner AS//Umbraco CMS//NO
TIMEZONE-ID:Europe/Oslo
X-WR-TIMEZONE:Europe/Oslo


BEGIN:VEVENT
UID:ddc4ff1c802b437e8707f978d94ead1b
URL:https://stavangernaering-2023.azurewebsites.net/en/events/archive/social-night-lervig_jun-24/
ORGANIZER;CN=Ola Normann:MAILTO:ola.normann@markedspartner.no
DTSTAMP:20240619T164500Z
DTSTART:20240619T164500Z
DTEND:20240619T191500Z
LAST-MODIFIED:20240620T063440Z
SUMMARY:Lervig Local Quiz 
DESCRIPTION:Are you a wandering encyclopedia and would like to use your knowledge? Look no further!
X-ALT-DESC:Are you a wandering encyclopedia and would like to use your knowledge? Look no further!
LOCATION:Lervig Local, Alexander Kiellands gate 2A, 4009 Stavanger
END:VEVENT


END:VCALENDAR



