
BEGIN:VCALENDAR
VERSION:2.0
PRODID:-//MarkedsPartner AS//Umbraco CMS//NO
TIMEZONE-ID:Europe/Oslo
X-WR-TIMEZONE:Europe/Oslo


BEGIN:VEVENT
UID:c5682634a0384eae98fe268a2eb9b9d9
URL:https://stavangernaering-2023.azurewebsites.net/en/events/archive/social-night-fargegaten_aug2022/
ORGANIZER;CN=Ola Normann:MAILTO:ola.normann@markedspartner.no
DTSTAMP:20220810T170000Z
DTSTART:20220810T170000Z
DTEND:20220810T193000Z
LAST-MODIFIED:20220824T064430Z
SUMMARY:Social night at Fargegaten
DESCRIPTION:Fargegaten - Øvre Holmegate - The colourful street
Arguably one of the most colourful streets of Norway? Well find out for yourself. Shopping and plenty of places for coffee and drinks too.
X-ALT-DESC:Fargegaten - &#216;vre Holmegate - The colourful street
Arguably one of the most colourful streets of Norway? Well find out for yourself. Shopping and plenty of places for coffee and drinks too.
LOCATION:Hanekam, &#216;vre Holmegate 26,  4006 Stavanger
END:VEVENT


END:VCALENDAR



