
BEGIN:VCALENDAR
VERSION:2.0
PRODID:-//MarkedsPartner AS//Umbraco CMS//NO
TIMEZONE-ID:Europe/Oslo
X-WR-TIMEZONE:Europe/Oslo


BEGIN:VEVENT
UID:5c9accdd50314e339b07797d72244744
URL:https://stavangernaering-2023.azurewebsites.net/en/events/archive/social-night-broremann_okt2022/
ORGANIZER;CN=Ola Normann:MAILTO:ola.normann@markedspartner.no
DTSTAMP:20221027T170000Z
DTSTART:20221027T170000Z
DTEND:20221027T193000Z
LAST-MODIFIED:20221030T161028Z
SUMMARY:Social night at Broremann Bar
DESCRIPTION:Broremann Bar is a Cocktail bar in Skansegaten 7, Stavanger. They are famous for their homemade fresh juice, based on local ingredients.
X-ALT-DESC:Broremann Bar is a Cocktail bar in Skansegaten 7, Stavanger. They are famous for their homemade fresh juice, based on local ingredients.
LOCATION:Broremann Bar, Skansegaten 7, 4006 Stavanger
END:VEVENT


END:VCALENDAR



