
BEGIN:VCALENDAR
VERSION:2.0
PRODID:-//MarkedsPartner AS//Umbraco CMS//NO
TIMEZONE-ID:Europe/Oslo
X-WR-TIMEZONE:Europe/Oslo


BEGIN:VEVENT
UID:c383ddac39f24ad780a602d0806cfd9f
URL:https://stavangernaering-2023.azurewebsites.net/en/events/archive/social-night-broel_mars23/
ORGANIZER;CN=Ola Normann:MAILTO:ola.normann@markedspartner.no
DTSTAMP:20230301T183000Z
DTSTART:20230301T183000Z
DTEND:20230301T210000Z
LAST-MODIFIED:20230308T171858Z
SUMMARY:Social night at Brøl
DESCRIPTION:Let's explore Øste bydel's latest bar edition, Brøl and what they have to offer!
X-ALT-DESC:Let&#39;s explore &#216;ste bydel&#39;s latest bar edition, Br&#248;l and what they have to offer!
LOCATION:Ryfylkegata 22 4014 stavanger
END:VEVENT


END:VCALENDAR



