
BEGIN:VCALENDAR
VERSION:2.0
PRODID:-//MarkedsPartner AS//Umbraco CMS//NO
TIMEZONE-ID:Europe/Oslo
X-WR-TIMEZONE:Europe/Oslo


BEGIN:VEVENT
UID:aedb522300dc46fdbefd9b3014b9b918
URL:https://stavangernaering-2023.azurewebsites.net/en/events/archive/social-christmas-dinner_221220/
ORGANIZER;CN=Ola Normann:MAILTO:ola.normann@markedspartner.no
DTSTAMP:20201222T170000Z
DTSTART:20201222T170000Z
DTEND:20201222T200000Z
LAST-MODIFIED:20201229T094924Z
SUMMARY:Social dining and networking
DESCRIPTION:Networking is an almost non-existant  word these days, hence it´s difficult to meet new people. We would like to invite you to an evening of social eating and new friendships!
X-ALT-DESC:Networking is an almost non-existant  word these days, hence it&#180;s difficult to meet new people. We would like to invite you to an evening of social eating and new friendships!
LOCATION:Bevaremegvel, Skagen 12, 4006 Stavanger
END:VEVENT


END:VCALENDAR



