
BEGIN:VCALENDAR
VERSION:2.0
PRODID:-//MarkedsPartner AS//Umbraco CMS//NO
TIMEZONE-ID:Europe/Oslo
X-WR-TIMEZONE:Europe/Oslo


BEGIN:VEVENT
UID:78a20444350b463d9334525f92b24601
URL:https://stavangernaering-2023.azurewebsites.net/en/events/archive/skiing_300121/
ORGANIZER;CN=Ola Normann:MAILTO:ola.normann@markedspartner.no
DTSTAMP:20210130T080000Z
DTSTART:20210130T080000Z
DTEND:20210130T170000Z
LAST-MODIFIED:20210202T081207Z
SUMMARY:Cross-country skiing for beginners
DESCRIPTION:Learn the basics of how to ski, how to go uphill, downhill and most importantly how to fall softly and having fun in the snow!
X-ALT-DESC:Learn the basics of how to ski, how to go uphill, downhill and most importantly how to fall softly and having fun in the snow!
LOCATION:Frikvarteret, Sirdalsveien 8853, &#197;dneram
END:VEVENT


END:VCALENDAR



