
BEGIN:VCALENDAR
VERSION:2.0
PRODID:-//MarkedsPartner AS//Umbraco CMS//NO
TIMEZONE-ID:Europe/Oslo
X-WR-TIMEZONE:Europe/Oslo


BEGIN:VEVENT
UID:48a89f19b8834492b004e0d71775f210
URL:https://stavangernaering-2023.azurewebsites.net/en/events/archive/skiing_290122/
ORGANIZER;CN=Ola Normann:MAILTO:ola.normann@markedspartner.no
DTSTAMP:20220220T063000Z
DTSTART:20220220T063000Z
DTEND:20220220T170000Z
LAST-MODIFIED:20220221T070108Z
SUMMARY:Cross-country skiing for beginners
DESCRIPTION:Join us for a fun day learning the basics of how to ski.
X-ALT-DESC:Join us for a fun day learning&#160;the basics of how to ski.
LOCATION:Frikvarteret, Sirdalsveien 8853, &#197;dneram.
END:VEVENT


END:VCALENDAR



