
BEGIN:VCALENDAR
VERSION:2.0
PRODID:-//MarkedsPartner AS//Umbraco CMS//NO
TIMEZONE-ID:Europe/Oslo
X-WR-TIMEZONE:Europe/Oslo


BEGIN:VEVENT
UID:62d20023b54345989677b2dbdec40af8
URL:https://stavangernaering-2023.azurewebsites.net/en/events/archive/skiing_230121-1/
ORGANIZER;CN=Ola Normann:MAILTO:ola.normann@markedspartner.no
DTSTAMP:20210123T070000Z
DTSTART:20210123T070000Z
DTEND:20210123T172000Z
LAST-MODIFIED:20210125T070345Z
SUMMARY:Cross-country skiing for beginners
DESCRIPTION:Learn the basics of how to ski, how to go uphill, downhill and most importantly how to fall softly and having fun in the snow!
X-ALT-DESC:Learn the basics of how to ski, how to go uphill, downhill and most importantly how to fall softly and having fun in the snow!
LOCATION:Frikvarteret, Sirdalsveien 8853, &#197;dneram.
END:VEVENT


END:VCALENDAR



