
BEGIN:VCALENDAR
VERSION:2.0
PRODID:-//MarkedsPartner AS//Umbraco CMS//NO
TIMEZONE-ID:Europe/Oslo
X-WR-TIMEZONE:Europe/Oslo


BEGIN:VEVENT
UID:2497c849ce3b4475ba556c97d78a29b6
URL:https://stavangernaering-2023.azurewebsites.net/en/events/archive/skiing_200321/
ORGANIZER;CN=Ola Normann:MAILTO:ola.normann@markedspartner.no
DTSTAMP:20210213T073000Z
DTSTART:20210213T073000Z
DTEND:20210213T162000Z
LAST-MODIFIED:20210216T113824Z
SUMMARY:Cross-country skiing for beginners - adults.
DESCRIPTION:Learn the basics of how to ski, how to go uphill, downhill and most importantly how to fall softly and having fun in the snow!
X-ALT-DESC:Learn the basics of how to ski, how to go uphill, downhill and most importantly how to fall softly and having fun in the snow!
LOCATION:Frikvarteret, Sirdalsveien 8853, &#197;dneram
END:VEVENT


END:VCALENDAR



