
BEGIN:VCALENDAR
VERSION:2.0
PRODID:-//MarkedsPartner AS//Umbraco CMS//NO
TIMEZONE-ID:Europe/Oslo
X-WR-TIMEZONE:Europe/Oslo


BEGIN:VEVENT
UID:92b780ed8164495d878d5778d6c8a349
URL:https://stavangernaering-2023.azurewebsites.net/en/events/archive/skiing_190222/
ORGANIZER;CN=Ola Normann:MAILTO:ola.normann@markedspartner.no
DTSTAMP:20220219T063000Z
DTSTART:20220219T063000Z
DTEND:20220219T170000Z
LAST-MODIFIED:20220221T070040Z
SUMMARY:Cross-country skiing for beginners
DESCRIPTION:Learn the basics of how to ski, how to go uphill, downhill and most importantly how to fall softly and having fun in the snow!
X-ALT-DESC:Learn the basics of how to ski, how to go uphill, downhill and most importantly how to fall softly and having fun in the snow!
LOCATION:Frikvarteret, Sirdalsveien 8853, &#197;dneram.
END:VEVENT


END:VCALENDAR



