
BEGIN:VCALENDAR
VERSION:2.0
PRODID:-//MarkedsPartner AS//Umbraco CMS//NO
TIMEZONE-ID:Europe/Oslo
X-WR-TIMEZONE:Europe/Oslo


BEGIN:VEVENT
UID:bdfcbad7e49e430faf01a55a28c673c1
URL:https://stavangernaering-2023.azurewebsites.net/en/events/archive/skiing-4-2024/
ORGANIZER;CN=Ola Normann:MAILTO:ola.normann@markedspartner.no
DTSTAMP:20240324T063000Z
DTSTART:20240324T063000Z
DTEND:20240324T170000Z
LAST-MODIFIED:20241003T132543Z
SUMMARY:Cross-country skiing for beginners
DESCRIPTION:Join us for a day in the snow and learn the basics of skiing. Please read all details below:)
X-ALT-DESC:Join us for a day in the snow and learn the basics of skiing. Please read all details below:)
LOCATION:Frikvarteret, Sirdalsveien 8853, &#197;dneram.
END:VEVENT


END:VCALENDAR



