
BEGIN:VCALENDAR
VERSION:2.0
PRODID:-//MarkedsPartner AS//Umbraco CMS//NO
TIMEZONE-ID:Europe/Oslo
X-WR-TIMEZONE:Europe/Oslo


BEGIN:VEVENT
UID:0a24637efba84f84a60605608169bb92
URL:https://stavangernaering-2023.azurewebsites.net/en/events/archive/skiing-4-2023/
ORGANIZER;CN=Ola Normann:MAILTO:ola.normann@markedspartner.no
DTSTAMP:20230318T063000Z
DTSTART:20230318T063000Z
DTEND:20230318T170000Z
LAST-MODIFIED:20230320T180954Z
SUMMARY:Cross-country skiing for beginners (Adults only)
DESCRIPTION:Learn the basics of how to ski! Techniques for uphill, downhill and most importantly how to fall softly and have fun while doing it!
X-ALT-DESC:Learn the basics of how to ski! Techniques for uphill, downhill and most importantly how to fall softly and have fun while doing it!
LOCATION:Frikvarteret, Sirdalsveien 8853, &#197;dneram.
END:VEVENT


END:VCALENDAR



