
BEGIN:VCALENDAR
VERSION:2.0
PRODID:-//MarkedsPartner AS//Umbraco CMS//NO
TIMEZONE-ID:Europe/Oslo
X-WR-TIMEZONE:Europe/Oslo


BEGIN:VEVENT
UID:ed330fdc71af419e86660e0c6e7cac1c
URL:https://stavangernaering-2023.azurewebsites.net/en/events/archive/skiing-3-2024/
ORGANIZER;CN=Ola Normann:MAILTO:ola.normann@markedspartner.no
DTSTAMP:20240210T063000Z
DTSTART:20240210T063000Z
DTEND:20240210T170000Z
LAST-MODIFIED:20240212T071057Z
SUMMARY:Cross-country skiing for beginners
DESCRIPTION:Join us for a day in the snow and learn the basics of skiing.
X-ALT-DESC:Join us for a day in the snow and learn the basics of skiing.
LOCATION:Frikvarteret, Sirdalsveien 8853, &#197;dneram.
END:VEVENT


END:VCALENDAR



