
BEGIN:VCALENDAR
VERSION:2.0
PRODID:-//MarkedsPartner AS//Umbraco CMS//NO
TIMEZONE-ID:Europe/Oslo
X-WR-TIMEZONE:Europe/Oslo


BEGIN:VEVENT
UID:50cde6f668dd487ca93d4ff33ca92437
URL:https://stavangernaering-2023.azurewebsites.net/en/events/archive/skiing-3-2023/
ORGANIZER;CN=Ola Normann:MAILTO:ola.normann@markedspartner.no
DTSTAMP:20230311T063000Z
DTSTART:20230311T063000Z
DTEND:20230311T170000Z
LAST-MODIFIED:20230312T064634Z
SUMMARY:Cross-country skiing for beginners (Adults only)
DESCRIPTION:Learn the basics of how to ski! Techniques for uphill, downhill and most importantly how to fall softly and have fun while doing it!
X-ALT-DESC:Learn the basics of how to ski! Techniques for uphill, downhill and most importantly how to fall softly and have fun while doing it!
LOCATION:Frikvarteret, Sirdalsveien 8853, &#197;dneram.
END:VEVENT


END:VCALENDAR



