
BEGIN:VCALENDAR
VERSION:2.0
PRODID:-//MarkedsPartner AS//Umbraco CMS//NO
TIMEZONE-ID:Europe/Oslo
X-WR-TIMEZONE:Europe/Oslo


BEGIN:VEVENT
UID:fd37c3a6eda747ca94a169cc3bccfd68
URL:https://stavangernaering-2023.azurewebsites.net/en/events/archive/skiing-2-_2025/
ORGANIZER;CN=Ola Normann:MAILTO:ola.normann@markedspartner.no
DTSTAMP:20250202T063000Z
DTSTART:20250202T063000Z
DTEND:20250202T170000Z
LAST-MODIFIED:20250203T162747Z
SUMMARY:Cross-country skiing for the first time - FULLY BOOKED
DESCRIPTION:Join us for a day in the snow and learn the basics of skiing. Please read all details below before enrolling, due to preparing correct equipment for you.
X-ALT-DESC:Join us for a day in the snow and learn the basics of skiing. Please read all details below before enrolling, due to preparing correct equipment for you.
LOCATION:Frikvarteret, Sirdalsveien 8853, &#197;dneram.
END:VEVENT


END:VCALENDAR



