
BEGIN:VCALENDAR
VERSION:2.0
PRODID:-//MarkedsPartner AS//Umbraco CMS//NO
TIMEZONE-ID:Europe/Oslo
X-WR-TIMEZONE:Europe/Oslo


BEGIN:VEVENT
UID:5f9f8c9b9ef243b89ebe9b3b7240ec0e
URL:https://stavangernaering-2023.azurewebsites.net/en/events/archive/skiing-1-_2025/
ORGANIZER;CN=Ola Normann:MAILTO:ola.normann@markedspartner.no
DTSTAMP:20250119T063000Z
DTSTART:20250119T063000Z
DTEND:20250119T170000Z
LAST-MODIFIED:20250119T190336Z
SUMMARY:Cross-country skiing for the first time - FULLY BOOKED
DESCRIPTION:Join us for a day in the snow and learn the basics of skiing. Please read all details below before enrolling, due to preparing correct equipment for you.
X-ALT-DESC:Join us for a day in the snow and learn the basics of skiing. Please read all details below before enrolling, due to preparing correct equipment for you.
LOCATION:Frikvarteret, Sirdalsveien 8853, &#197;dneram.
END:VEVENT


END:VCALENDAR



