
BEGIN:VCALENDAR
VERSION:2.0
PRODID:-//MarkedsPartner AS//Umbraco CMS//NO
TIMEZONE-ID:Europe/Oslo
X-WR-TIMEZONE:Europe/Oslo


BEGIN:VEVENT
UID:2f22ea26de364f429aff4282eeabd539
URL:https://stavangernaering-2023.azurewebsites.net/en/events/archive/skiing-1-2024/
ORGANIZER;CN=Ola Normann:MAILTO:ola.normann@markedspartner.no
DTSTAMP:20240113T063000Z
DTSTART:20240113T063000Z
DTEND:20240113T170000Z
LAST-MODIFIED:20240114T172812Z
SUMMARY:Cross-country skiing for beginners
DESCRIPTION:Join us for a day in the snow and learn the basics of skiing.
X-ALT-DESC:Join us for a day in the snow and learn the basics of skiing.
LOCATION:Frikvarteret, Sirdalsveien 8853, &#197;dneram.
END:VEVENT


END:VCALENDAR



