
BEGIN:VCALENDAR
VERSION:2.0
PRODID:-//MarkedsPartner AS//Umbraco CMS//NO
TIMEZONE-ID:Europe/Oslo
X-WR-TIMEZONE:Europe/Oslo


BEGIN:VEVENT
UID:c72de3b38e3349ecadbd9ad4135cd25b
URL:https://stavangernaering-2023.azurewebsites.net/en/events/archive/skiing-1-2023/
ORGANIZER;CN=Ola Normann:MAILTO:ola.normann@markedspartner.no
DTSTAMP:20230114T063000Z
DTSTART:20230114T063000Z
DTEND:20230114T170000Z
LAST-MODIFIED:20230115T190134Z
SUMMARY:Cross-country skiing for beginners
DESCRIPTION:Learn the basics of how to ski! Techniques for uphill, downhill and most importantly how to fall softly and have fun while doing it!
X-ALT-DESC:Learn the basics of how to ski! Techniques for uphill, downhill and most importantly how to fall softly and have fun while doing it!
LOCATION:Frikvarteret, Sirdalsveien 8853, &#197;dneram.
END:VEVENT


END:VCALENDAR



