
BEGIN:VCALENDAR
VERSION:2.0
PRODID:-//MarkedsPartner AS//Umbraco CMS//NO
TIMEZONE-ID:Europe/Oslo
X-WR-TIMEZONE:Europe/Oslo


BEGIN:VEVENT
UID:672fd46c635649e19a0df6b28608ed2f
URL:https://stavangernaering-2023.azurewebsites.net/en/events/archive/skating301223/
ORGANIZER;CN=Ola Normann:MAILTO:ola.normann@markedspartner.no
DTSTAMP:20231230T130000Z
DTSTART:20231230T130000Z
DTEND:20231230T150000Z
LAST-MODIFIED:20240103T071702Z
SUMMARY:Let`s go ice skating together!
DESCRIPTION:The ice rink at Vår Energi Arena Sørmarka is open and ready. Join us for a fun day at the ice.
X-ALT-DESC:The ice rink at V&#229;r Energi Arena S&#248;rmarka is open and ready. Join us for a fun day at the ice.
LOCATION:V&#229;r Energi Arena S&#248;rmarka
END:VEVENT


END:VCALENDAR



