
BEGIN:VCALENDAR
VERSION:2.0
PRODID:-//MarkedsPartner AS//Umbraco CMS//NO
TIMEZONE-ID:Europe/Oslo
X-WR-TIMEZONE:Europe/Oslo


BEGIN:VEVENT
UID:3e92d289b59b4e50a77232dd4b5b2463
URL:https://stavangernaering-2023.azurewebsites.net/en/events/archive/skape-webinar/
ORGANIZER;CN=Ola Normann:MAILTO:ola.normann@markedspartner.no
DTSTAMP:20201125T160000Z
DTSTART:20201125T160000Z
DTEND:20201125T180000Z
LAST-MODIFIED:20201126T071615Z
SUMMARY:Webinar: Introduction course for business startup
DESCRIPTION:This course will be helpful if you wish to start a business. You will receive useful and practical advice in starting your own business, and you will also have the opportunity to ask questions.
X-ALT-DESC:This course will be helpful if you wish to start a business. You will receive useful and practical advice in starting your own business, and you will also have the opportunity to ask questions.
LOCATION:Online 
END:VEVENT


END:VCALENDAR



