
BEGIN:VCALENDAR
VERSION:2.0
PRODID:-//MarkedsPartner AS//Umbraco CMS//NO
TIMEZONE-ID:Europe/Oslo
X-WR-TIMEZONE:Europe/Oslo


BEGIN:VEVENT
UID:672e31150fa34ac299797e02f50fa659
URL:https://stavangernaering-2023.azurewebsites.net/en/events/archive/servering-on-a-board_180620/
ORGANIZER;CN=Ola Normann:MAILTO:ola.normann@markedspartner.no
DTSTAMP:20200618T070000Z
DTSTART:20200618T070000Z
DTEND:20200618T080000Z
LAST-MODIFIED:20200619T064714Z
SUMMARY:Webinar: Serving on a board
DESCRIPTION:Serving on the Board of a Norwegian Company: What You Need to Know
X-ALT-DESC:Serving on the Board of a Norwegian Company: What You Need to Know
LOCATION:webinar
END:VEVENT


END:VCALENDAR



