
BEGIN:VCALENDAR
VERSION:2.0
PRODID:-//MarkedsPartner AS//Umbraco CMS//NO
TIMEZONE-ID:Europe/Oslo
X-WR-TIMEZONE:Europe/Oslo


BEGIN:VEVENT
UID:d1b968690bcf4aeaba7bc011a1c51d07
URL:https://stavangernaering-2023.azurewebsites.net/en/events/archive/sea-fishing-from-land_030620/
ORGANIZER;CN=Ola Normann:MAILTO:ola.normann@markedspartner.no
DTSTAMP:20200603T160000Z
DTSTART:20200603T160000Z
DTEND:20200603T183000Z
LAST-MODIFIED:20200612T113333Z
SUMMARY:Sea fishing from land
DESCRIPTION:This event is for those of you who would  like to try sea fishing from land!
X-ALT-DESC:This event is for those of you who would  like to try sea fishing from land!
LOCATION:Wyllerodden, Rosenli
END:VEVENT


END:VCALENDAR



