
BEGIN:VCALENDAR
VERSION:2.0
PRODID:-//MarkedsPartner AS//Umbraco CMS//NO
TIMEZONE-ID:Europe/Oslo
X-WR-TIMEZONE:Europe/Oslo


BEGIN:VEVENT
UID:6791810570f04fe396904dc0c1e7e979
URL:https://stavangernaering-2023.azurewebsites.net/en/events/archive/science-meets-industry_260521/
ORGANIZER;CN=Ola Normann:MAILTO:ola.normann@markedspartner.no
DTSTAMP:20210526T080000Z
DTSTART:20210526T080000Z
DTEND:20210526T130000Z
LAST-MODIFIED:20210527T191624Z
SUMMARY:Floating Offshore Wind in Norway
DESCRIPTION:Free of charge WEBINAR open for all! In this webinar you will learn about Offshore Wind in Norway with focus on science meets industry!
X-ALT-DESC:Free of charge WEBINAR open for all! In this webinar you will learn about Offshore Wind in Norway with focus on science meets industry!
LOCATION:Online
END:VEVENT


END:VCALENDAR



