
BEGIN:VCALENDAR
VERSION:2.0
PRODID:-//MarkedsPartner AS//Umbraco CMS//NO
TIMEZONE-ID:Europe/Oslo
X-WR-TIMEZONE:Europe/Oslo


BEGIN:VEVENT
UID:735af72213c44119a02e98e6979e0e42
URL:https://stavangernaering-2023.azurewebsites.net/en/events/archive/sci-health-and-well-being_jan2023/
ORGANIZER;CN=Ola Normann:MAILTO:ola.normann@markedspartner.no
DTSTAMP:20230111T173000Z
DTSTART:20230111T173000Z
DTEND:20230111T200000Z
LAST-MODIFIED:20230111T201530Z
SUMMARY:Health and well-being
DESCRIPTION:How does the health system work in Norway? We`ll go through preventive activities, GP, acute illness, and practical tips in general.
X-ALT-DESC:How does the health system work in Norway? We`ll go through preventive activities, GP, acute illness, and practical tips in general.
LOCATION:Rosenkildehuset, Strandkaien 6, 4005 Stavanger
END:VEVENT


END:VCALENDAR



