
BEGIN:VCALENDAR
VERSION:2.0
PRODID:-//MarkedsPartner AS//Umbraco CMS//NO
TIMEZONE-ID:Europe/Oslo
X-WR-TIMEZONE:Europe/Oslo


BEGIN:VEVENT
UID:92c727e5d2414ee99b47043ee6bf18e9
URL:https://stavangernaering-2023.azurewebsites.net/en/events/archive/sandnes-garn-og-woodling_mars23/
ORGANIZER;CN=Ola Normann:MAILTO:ola.normann@markedspartner.no
DTSTAMP:20230310T093000Z
DTSTART:20230310T093000Z
DTEND:20230310T133000Z
LAST-MODIFIED:20230312T064656Z
SUMMARY:Factory visit: Sandnes Garn and Woodling 
DESCRIPTION:At this event you'll get a little history, a factory tour and a visit to both companies very own factory outlet, get knitting or perhaps purchase a new sweater or dress.
X-ALT-DESC:At this event you&#39;ll get a little history, a factory tour and a visit to both companies very own factory outlet, get knitting or perhaps purchase a new sweater or dress.
LOCATION:Sandnes Garn, Kvernelandsveien 126, 4323 Sandnes
END:VEVENT


END:VCALENDAR



