
BEGIN:VCALENDAR
VERSION:2.0
PRODID:-//MarkedsPartner AS//Umbraco CMS//NO
TIMEZONE-ID:Europe/Oslo
X-WR-TIMEZONE:Europe/Oslo


BEGIN:VEVENT
UID:f5db114659bc49d1bc0a041d8ed83375
URL:https://stavangernaering-2023.azurewebsites.net/en/events/archive/sales-and-marketing_nov-2022/
ORGANIZER;CN=Ola Normann:MAILTO:ola.normann@markedspartner.no
DTSTAMP:20221129T173000Z
DTSTART:20221129T173000Z
DTEND:20221129T200000Z
LAST-MODIFIED:20221129T180100Z
SUMMARY:Entrepreneur: Sales and marketing
DESCRIPTION:There are many good business ideas in the market, but how do you sell your idea or product to customers or to a partner?  There's no standard recipe, but all startups and entrepreneurs need a strategy for how to build your company from idea to market.
X-ALT-DESC:There are many good business ideas in the market, but how do you sell your idea or product to customers or to a partner?  There&#39;s no standard recipe, but all startups and entrepreneurs need a strategy for how to build your company from idea to market.
LOCATION:Rosenkildehuset, Strandkaien 6, 4005 Stavanger
END:VEVENT


END:VCALENDAR



