
BEGIN:VCALENDAR
VERSION:2.0
PRODID:-//MarkedsPartner AS//Umbraco CMS//NO
TIMEZONE-ID:Europe/Oslo
X-WR-TIMEZONE:Europe/Oslo


BEGIN:VEVENT
UID:1942b7c27a8d46fead69d19464506988
URL:https://stavangernaering-2023.azurewebsites.net/en/events/archive/runtalkrun_210221/
ORGANIZER;CN=Ola Normann:MAILTO:ola.normann@markedspartner.no
DTSTAMP:20210221T093000Z
DTSTART:20210221T093000Z
DTEND:20210221T110000Z
LAST-MODIFIED:20210223T194927Z
SUMMARY:RunTalkRun
DESCRIPTION:A Sunday morning social with one goal: meeting new friends! Exercise is bonus.
X-ALT-DESC:A Sunday morning social with one goal: meeting new friends! Exercise is bonus.
LOCATION:Mosvatnet, Meeting point: Stavanger Kunst Museum
END:VEVENT


END:VCALENDAR



